BEGIN:VCALENDAR
VERSION:2.0
PRODID:-//sacredheartwdm.org//eCatholic//EN
X-WR-TIMEZONE:LocalTZ
BEGIN:VTIMEZONE
TZID:LocalTZ
X-LIC-LOCATION:LocalTZ
BEGIN:DAYLIGHT
TZOFFSETFROM:-0600
TZOFFSETTO:-0500
TZNAME:LocalTZ
DTSTART:19700308T020000
RRULE:FREQ=YEARLY;BYMONTH=3;BYDAY=2SU
END:DAYLIGHT
BEGIN:STANDARD
TZOFFSETFROM:-0500
TZOFFSETTO:-0600
TZNAME:LocalTZ
DTSTART:19701101T020000
RRULE:FREQ=YEARLY;BYMONTH=11;BYDAY=1SU
END:STANDARD
END:VTIMEZONE
BEGIN:VEVENT
UID:2383150@sacredheartwdm.org
DTSTAMP:20260421T004546Z
DTSTART:20260420T183000
DTEND:20260420T193000
RRULE:FREQ=WEEKLY;BYDAY=MO
SUMMARY:Parish Rosary
END:VEVENT
BEGIN:VEVENT
UID:2383148@sacredheartwdm.org
DTSTAMP:20260421T004546Z
DTSTART:20260421T083000
DTEND:20260421T190000
RRULE:FREQ=WEEKLY;BYDAY=TU
EXDATE:20250422T083000
SUMMARY:Adoration of the Holy Eucharist
END:VEVENT
BEGIN:VEVENT
UID:2383149@sacredheartwdm.org
DTSTAMP:20260421T004546Z
DTSTART:20260421T173000
DTEND:20260421T183000
RRULE:FREQ=WEEKLY;BYDAY=TU
EXDATE:20250422T173000
SUMMARY:Reconciliation
END:VEVENT
END:VCALENDAR
